Workbook

Sheet 代購聖誕食品禮盒
A1: 海關福利會 2025年聖誕禮盒優惠價代購表
A3: 序號 | B3: 人員編號 | C3: 姓名 | D3: 工作單位 （下拉箭嘴選填） | E3: 訂購禮品 （下拉箭嘴選填） | F3: 單價 | G3: 數量 | H3: 總價
F4: =IF(E4<>"",VLOOKUP(E4,工作表2!D2:E22,2,FALSE),0) -> 0 | H4: =F4*G4 -> 0
F5: =IF(E5<>"",VLOOKUP(E5,工作表2!D3:E23,2,FALSE),0) -> 0 | H5: =F5*G5 -> 0
F6: =IF(E6<>"",VLOOKUP(E6,工作表2!D4:E24,2,FALSE),0) -> 0 | H6: =F6*G6 -> 0
F7: =IF(E7<>"",VLOOKUP(E7,工作表2!D5:E25,2,FALSE),0) -> 0 | H7: =F7*G7 -> 0
F8: =IF(E8<>"",VLOOKUP(E8,工作表2!D6:E26,2,FALSE),0) -> 0 | H8: =F8*G8 -> 0
F9: =IF(E9<>"",VLOOKUP(E9,工作表2!D7:E27,2,FALSE),0) -> 0 | H9: =F9*G9 -> 0
F10: =IF(E10<>"",VLOOKUP(E10,工作表2!D8:E28,2,FALSE),0) -> 0 | H10: =F10*G10 -> 0
F11: =IF(E11<>"",VLOOKUP(E11,工作表2!D9:E29,2,FALSE),0) -> 0 | H11: =F11*G11 -> 0
F12: =IF(E12<>"",VLOOKUP(E12,工作表2!D10:E30,2,FALSE),0) -> 0 | H12: =F12*G12 -> 0
F13: =IF(E13<>"",VLOOKUP(E13,工作表2!D11:E31,2,FALSE),0) -> 0 | H13: =F13*G13 -> 0
F14: =IF(E14<>"",VLOOKUP(E14,工作表2!D12:E32,2,FALSE),0) -> 0 | H14: =F14*G14 -> 0
F15: =IF(E15<>"",VLOOKUP(E15,工作表2!D13:E33,2,FALSE),0) -> 0 | H15: =F15*G15 -> 0
... F100: =IF(E100<>"",VLOOKUP(E100,工作表2!D98:E118,2,FALSE),0) -> 0 | H100: =F100*G100 -> 0

Sheet 工作表2
A1: 序號 | B1: 名稱 | C1: 優惠價
A2: 1 | B2: 澳門原粒杏仁餅 | C2: 96 | D2: =A2&"-"&B2 -> 1-澳門原粒杏仁餅 | E2: =_xlfn.NUMBERVALUE(C2) -> 96
A3: 2 | B3: 澳門紫菜鳳凰卷 | C3: 96 | D3: =A3&"-"&B3 -> 2-澳門紫菜鳳凰卷 | E3: =_xlfn.NUMBERVALUE(C3) -> 96
A4: 3 | B4: 澳門原味蛋卷 | C4: 104 | D4: =A4&"-"&B4 -> 3-澳門原味蛋卷 | E4: =_xlfn.NUMBERVALUE(C4) -> 104
A5: 4 | B5: 「楓狂」扁桃仁曲奇 | C5: 96 | D5: =A5&"-"&B5 -> 4-「楓狂」扁桃仁曲奇 | E5: =_xlfn.NUMBERVALUE(C5) -> 96
A6: 5 | B6: 「焦積」腰果曲奇 | C6: 96 | D6: =A6&"-"&B6 -> 5-「焦積」腰果曲奇 | E6: =_xlfn.NUMBERVALUE(C6) -> 96
A7: 6 | B7: 浪漫蝴蝶酥 | C7: 89 | D7: =A7&"-"&B7 -> 6-浪漫蝴蝶酥 | E7: =_xlfn.NUMBERVALUE(C7) -> 89
A8: 7 | B8: 迷住你杏仁餅 玫瑰味 | C8: 89 | D8: =A8&"-"&B8 -> 7-迷住你杏仁餅 玫瑰味 | E8: =_xlfn.NUMBERVALUE(C8) -> 89
A9: 8 | B9: 迷住你杏仁餅 烏龍茶味 | C9: 89 | D9: =A9&"-"&B9 -> 8-迷住你杏仁餅 烏龍茶味 | E9: =_xlfn.NUMBERVALUE(C9) -> 89
A10: 9 | B10: 迷住你杏仁餅 伯爵紅茶味 | C10: 89 | D10: =A10&"-"&B10 -> 9-迷住你杏仁餅 伯爵紅茶味 | E10: =_xlfn.NUMBERVALUE(C10) -> 89
A11: 10 | B11: 巴旦木薄脆餅 | C11: 99 | D11: =A11&"-"&B11 -> 10-巴旦木薄脆餅 | E11: =_xlfn.NUMBERVALUE(C11) -> 99
A12: 11 | B12: 開心果薄脆餅 | C12: 141 | D12: =A12&"-"&B12 -> 11-開心果薄脆餅 | E12: =_xlfn.NUMBERVALUE(C12) -> 141
A13: 12 | B13: 雜果薄脆餅 | C13: 99 | D13: =A13&"-"&B13 -> 12-雜果薄脆餅 | E13: =_xlfn.NUMBERVALUE(C13) -> 99
... A22: 21 | B22: 澳門幸運神朱古力 | C22: 126 | D22: =A22&"-"&B22 -> 21-澳門幸運神朱古力 | E22: =_xlfn.NUMBERVALUE(C22) -> 126

Sheet 工作表3
C1: 工作單位
A2: GAT | B2: 技術顧問辦公室 | C2: =TRIM(A2)&" - "&TRIM(B2) -> GAT - 技術顧問辦公室
A3: GAI | B3: 內部審查辦公室 | C3: =TRIM(A3)&" - "&TRIM(B3) -> GAI - 內部審查辦公室
A4: DGO | B4: 行動管理廳 | C4: =TRIM(A4)&" - "&TRIM(B4) -> DGO - 行動管理廳
A5: DPO | B5: 行動策劃處 | C5: =TRIM(A5)&" - "&TRIM(B5) -> DPO - 行動策劃處
A6: DIGR | B6: 情報及風險管理處 | C6: =TRIM(A6)&" - "&TRIM(B6) -> DIGR - 情報及風險管理處
A7: DFAPF | B7: 口岸監察廳 | C7: =TRIM(A7)&" - "&TRIM(B7) -> DFAPF - 口岸監察廳
A8: DFAM | B8: 澳門關檢處 | C8: =TRIM(A8)&" - "&TRIM(B8) -> DFAM - 澳門關檢處
A9: PAPI | B9: 內港海關站 | C9: =TRIM(A9)&" - "&TRIM(B9) -> PAPI - 內港海關站
A10: PAPE | B10: 外港海關站 | C10: =TRIM(A10)&" - "&TRIM(B10) -> PAPE - 外港海關站
A11: PAPC | B11: 關閘海關站 | C11: =TRIM(A11)&" - "&TRIM(B11) -> PAPC - 關閘海關站
A12: PAPIT | B12: 珠澳跨境工業區海關站 | C12: =TRIM(A12)&" - "&TRIM(B12) -> PAPIT - 珠澳跨境工業區海關站
A13: PAMPHZM | B13: 港珠澳大橋澳門海關站 | C13: =TRIM(A13)&" - "&TRIM(B13) -> PAMPHZM - 港珠澳大橋澳門海關站
... A38: DIRP | B38: 新聞及公共關係處 | C38: =TRIM(A38)&" - "&TRIM(B38) -> DIRP - 新聞及公共關係處
